BEGIN:VCALENDAR
VERSION:2.0
PRODID:-//Plone.org//NONSGML plone.app.event//EN
X-WR-TIMEZONE:Brazil/East
BEGIN:VEVENT
SUMMARY:FERIADO NACIONAL E MUNICIPAL
DTSTART;VALUE=DATE:20260403
DTEND;VALUE=DATE:20260404
DTSTAMP;VALUE=DATE-TIME:20260422T192949Z
UID:c3d15916b2cb4f50a88c81f804f8a3d7@www.belfordroxo.rj.leg.br
CREATED;VALUE=DATE-TIME:20260419T131256Z
DESCRIPTION:O feriado nacional da Sexta-feira da Paixão é regulada pela 
 Lei nº 9.093/1995. E\, o feriado municipal de Emancipação do Município
  de Belford Roxo foi instituído com base na Lei Estadual nº 1.640\, de 0
 3 de abril de 1990.
LAST-MODIFIED;VALUE=DATE-TIME:20260419T132123Z
URL:https://www.belfordroxo.rj.leg.br/institucional/eventos/feriado-nacion
 al-da-sexta-feira-da-paixao-feriado-municipal-da-emancipacao-de-belford-ro
 xo
END:VEVENT
BEGIN:VEVENT
SUMMARY:13ª SESSÃO ORDINÁRIA
DTSTART;TZID=Brazil/East;VALUE=DATE-TIME:20260407T111300
DTEND;TZID=Brazil/East;VALUE=DATE-TIME:20260407T122500
DTSTAMP;VALUE=DATE-TIME:20260422T192949Z
UID:031cec0ee7bb4ebfbb30cc572d195a56@www.belfordroxo.rj.leg.br
CONTACT:(21)35823783\, contato@belfordroxo.rj.leg.br\, https://sapl.belfor
 droxo.rj.leg.br/sessao/212
CREATED;VALUE=DATE-TIME:20260406T122324Z
DESCRIPTION:13ª Sessão Ordinária de 2026 da 2ª Sessão Legislativa da 
 9ª Legislatura
LAST-MODIFIED;VALUE=DATE-TIME:20260422T125359Z
LOCATION:Câmara Municipal de Belford Roxo
URL:https://www.belfordroxo.rj.leg.br/institucional/eventos/sessao-plenari
 a
END:VEVENT
BEGIN:VEVENT
SUMMARY:14ª SESSÃO ORDINÁRIA
DTSTART;TZID=Brazil/East;VALUE=DATE-TIME:20260408T110000
DTEND;TZID=Brazil/East;VALUE=DATE-TIME:20260408T113500
DTSTAMP;VALUE=DATE-TIME:20260422T192949Z
UID:6acba17da7aa48bbbb13fc9ddfd0defd@www.belfordroxo.rj.leg.br
CONTACT:(21)35823783\, contato@belfordroxo.rj.leg.br\, https://sapl.belfor
 droxo.rj.leg.br/sessao/213
CREATED;VALUE=DATE-TIME:20260406T122520Z
DESCRIPTION:14ª Sessão Ordinária de 2026 da 2ª Sessão Legislativa da 
 9ª Legislatura
LAST-MODIFIED;VALUE=DATE-TIME:20260422T125454Z
LOCATION:Câmara Municipal de Belford Roxo
URL:https://www.belfordroxo.rj.leg.br/institucional/eventos/sessao-plenari
 a-1
END:VEVENT
BEGIN:VEVENT
SUMMARY:15ª SESSÃO ORDINÁRIA
DTSTART;TZID=Brazil/East;VALUE=DATE-TIME:20260414T110000
DTEND;TZID=Brazil/East;VALUE=DATE-TIME:20260414T112500
DTSTAMP;VALUE=DATE-TIME:20260422T192949Z
UID:d2cab7ca509948f9b406f97a6684fb74@www.belfordroxo.rj.leg.br
CONTACT:(21)35823783\, contato@belfordroxo.rj.leg.br\, https://sapl.belfor
 droxo.rj.leg.br/sessao/214
CREATED;VALUE=DATE-TIME:20260408T164621Z
DESCRIPTION:15ª Sessão Ordinária de 2026 da 2ª Sessão Legislativa da 
 9ª Legislatura
LAST-MODIFIED;VALUE=DATE-TIME:20260422T125814Z
LOCATION:Câmara Municipal de Belford Roxo
URL:https://www.belfordroxo.rj.leg.br/institucional/eventos/sessao-plenari
 a-2
END:VEVENT
BEGIN:VEVENT
SUMMARY:16ª SESSÃO ORDINÁRIA
DTSTART;TZID=Brazil/East;VALUE=DATE-TIME:20260415T110600
DTEND;TZID=Brazil/East;VALUE=DATE-TIME:20260415T114500
DTSTAMP;VALUE=DATE-TIME:20260422T192949Z
UID:c15cceb890994384b297e900fce8cbe2@www.belfordroxo.rj.leg.br
CONTACT:(21)35823783\, contato@belfordroxo.rj.leg.br\, https://sapl.belfor
 droxo.rj.leg.br/sessao/215
CREATED;VALUE=DATE-TIME:20260408T165455Z
DESCRIPTION:16ª Sessão Ordinária de 2026 da 2ª Sessão Legislativa da 
 9ª Legislatura
LAST-MODIFIED;VALUE=DATE-TIME:20260422T125936Z
LOCATION:Câmara Municipal de Belford Roxo
URL:https://www.belfordroxo.rj.leg.br/institucional/eventos/sessao-ordinar
 ia
END:VEVENT
BEGIN:VEVENT
SUMMARY:FERIADO NACIONAL
DTSTART;VALUE=DATE:20260421
DTEND;VALUE=DATE:20260422
DTSTAMP;VALUE=DATE-TIME:20260422T192949Z
UID:4b01e9eff01f49f4a7316ccc5753545d@www.belfordroxo.rj.leg.br
CREATED;VALUE=DATE-TIME:20260419T024717Z
DESCRIPTION:O feriado nacional da Inconfidência / Tiradentes (21 de abril
 ) foi instituído oficialmente pela Lei nº 4.897\, de 9 de dezembro de 19
 65\, durante o governo de Castello Branco.
LAST-MODIFIED;VALUE=DATE-TIME:20260419T131826Z
URL:https://www.belfordroxo.rj.leg.br/institucional/eventos/feriado
END:VEVENT
BEGIN:VEVENT
SUMMARY:17ª SESSÃO ORDINÁRIA
DTSTART;TZID=Brazil/East;VALUE=DATE-TIME:20260422T110000
DTSTAMP;VALUE=DATE-TIME:20260422T192949Z
UID:f27f21c384fd4035b165b09d5876c91d@www.belfordroxo.rj.leg.br
CONTACT:(21)35823783\, contato@belfordroxo.rj.leg.br\, https://sapl.belfor
 droxo.rj.leg.br/sessao/216
CREATED;VALUE=DATE-TIME:20260419T021618Z
DESCRIPTION:17ª Sessão Ordinária de 2026 da 2ª Sessão Legislativa da 
 9ª Legislatura
LAST-MODIFIED;VALUE=DATE-TIME:20260422T124441Z
LOCATION:Câmara Municipal de Belford Roxo
URL:https://www.belfordroxo.rj.leg.br/institucional/eventos/sessao-ordinar
 ia-1
END:VEVENT
BEGIN:VEVENT
SUMMARY:FERIADO ESTADUAL
DTSTART;VALUE=DATE:20260423
DTEND;VALUE=DATE:20260424
DTSTAMP;VALUE=DATE-TIME:20260422T192949Z
UID:e473cf5854d249528f40e854ef3bdb00@www.belfordroxo.rj.leg.br
CREATED;VALUE=DATE-TIME:20260419T024943Z
DESCRIPTION:O Feriado do Dia de São Jorge\, celebrado em 23 de abril\, é
  um feriado estadual no Rio de Janeiro\, instituído pela Lei Estadual 5.1
 98/2008. 
LAST-MODIFIED;VALUE=DATE-TIME:20260420T171937Z
URL:https://www.belfordroxo.rj.leg.br/institucional/eventos/feriado-dia-de
 -sao-jorge
END:VEVENT
BEGIN:VEVENT
SUMMARY:PONTO FACULTATIVO
DTSTART;VALUE=DATE:20260424
DTEND;VALUE=DATE:20260425
DTSTAMP;VALUE=DATE-TIME:20260422T192949Z
UID:7c8a0cbf43c245c8a7da5df3bad45974@www.belfordroxo.rj.leg.br
CONTACT:https://www.belfordr.instartecnologia.com.br/portal/diario-oficial
 /ver/2215
CREATED;VALUE=DATE-TIME:20260422T161633Z
DESCRIPTION:Fica instituído ponto facultativo nas repartições públicas
  municipais\, conforme disposto no Decreto nº 6.511\, de 20 de abril de 2
 026\, de autoria da Prefeita Municipal de Belford Roxo\, Mariana Malta Mon
 teiro da Silva\, cuja redação estabelece: ‘Estabelece ponto facultativ
 o nas repartições públicas municipais no dia que menciona’.
LAST-MODIFIED;VALUE=DATE-TIME:20260422T165229Z
URL:https://www.belfordroxo.rj.leg.br/institucional/eventos/ponto-facultat
 ivo
END:VEVENT
BEGIN:VEVENT
SUMMARY:18ª SESSÃO ORDINÁRIA
DTSTART;TZID=Brazil/East;VALUE=DATE-TIME:20260428T110000
DTSTAMP;VALUE=DATE-TIME:20260422T192949Z
UID:731e30a7662a4798a0b83cba2f7c39e6@www.belfordroxo.rj.leg.br
CONTACT:(21)35823783\, contato@belfordroxo.rj.leg.br
CREATED;VALUE=DATE-TIME:20260419T023848Z
DESCRIPTION:18ª Sessão Ordinária de 2026 da 2ª Sessão Legislativa da 
 9ª Legislatura
LAST-MODIFIED;VALUE=DATE-TIME:20260422T124104Z
LOCATION:Câmara Municipal de Belford Roxo
URL:https://www.belfordroxo.rj.leg.br/institucional/eventos/sessao-ordinar
 ia-2
END:VEVENT
BEGIN:VEVENT
SUMMARY:19ª SESSÃO ORDINÁRIA
DTSTART;TZID=Brazil/East;VALUE=DATE-TIME:20260429T110000
DTSTAMP;VALUE=DATE-TIME:20260422T192949Z
UID:c97106df756c404e8115b2aa64f9de7b@www.belfordroxo.rj.leg.br
CONTACT:(21)35823783\, contato@belfordroxo.rj.leg.br
CREATED;VALUE=DATE-TIME:20260419T024114Z
DESCRIPTION:19ª Sessão Ordinária de 2026 da 2ª Sessão Legislativa da 
 9ª Legislatura
LAST-MODIFIED;VALUE=DATE-TIME:20260422T124210Z
LOCATION:Câmara Municipal de Belford Roxo
URL:https://www.belfordroxo.rj.leg.br/institucional/eventos/sessao-ordinar
 ia-3
END:VEVENT
BEGIN:VTIMEZONE
TZID:Brazil/East
X-LIC-LOCATION:Brazil/East
BEGIN:STANDARD
DTSTART;VALUE=DATE-TIME:20260221T230000
TZNAME:BRT
TZOFFSETFROM:-0200
TZOFFSETTO:-0300
END:STANDARD
END:VTIMEZONE
END:VCALENDAR
